BEGIN:VCALENDAR
VERSION:2.0
PRODID:-//ChamberMaster//Event Calendar 2.0//EN
METHOD:PUBLISH
X-PUBLISHED-TTL:P3D
REFRESH-INTERVAL:P3D
CALSCALE:GREGORIAN
BEGIN:VEVENT
DTSTART:20250721T140000Z
DTEND:20250725T200000Z
X-MICROSOFT-CDO-ALLDAYEVENT:FALSE
SUMMARY:Wool to Weaving: Fiber Art Camp for Kids
DESCRIPTION:Ages 10-14 | 5 Days of Hands-On Creativity\n\nJuly 21-25\, 2025 9:00 am-3:00 pm\n\nDiscover the magic of turning raw fiber into beautiful\, handmade creations! In this immersive week-long camp\, young artists will explore every step of the fiber art journey?from meeting the animals that provide the wool to creating their own woven projects.\n\nSample Schedule (subject to change)\n\nMonday: Get to know your fellow campers and dive into the world of fiber arts with fun\, hands-on activities.\n\nTuesday: Field trip adventure! Visit a sheep and alpaca farm\, then try out weaving at Picket Fence Weaving.\n\nWednesday: Spin your own yarn! Craft a drop spindle and dye fleece collected from the farm visit.\n\nThursday: Weave your hand-dyed yarn into a unique project at the Peoria Art Guild?create a bookmark or bracelet to take home.\n\nFriday: Finish your projects and get ready to showcase your work. Families are invited to an afternoon open house to see demonstrations of spinning\, weaving\, and felting.\n\nBy the end of the week\, campers will have hands-on experience in spinning\, dyeing\, and weaving?turning raw wool into one-of-a-kind fiber art treasures!\n\nCost: $300\n\nStudents will need to bring a sack lunch and drink every day. \n\nWool to Weaving: Fiber Art Camp is sponsored by Hopewell Weaving
X-ALT-DESC;FMTTYPE=text/html:Ages 10-14 | 5 Days of Hands-On Creativity\n\nJuly 21-25\, 2025 9:00 am-3:00 pm\n\nDiscover the magic of turning raw fiber into beautiful\, handmade creations! In this immersive week-long camp\, young artists will explore every step of the fiber art journey?from meeting the animals that provide the wool to creating their own woven projects.\n\nSample Schedule (subject to change)\n\nMonday: Get to know your fellow campers and dive into the world of fiber arts with fun\, hands-on activities.\n\nTuesday: Field trip adventure! Visit a sheep and alpaca farm\, then try out weaving at Picket Fence Weaving.\n\nWednesday: Spin your own yarn! Craft a drop spindle and dye fleece collected from the farm visit.\n\nThursday: Weave your hand-dyed yarn into a unique project at the Peoria Art Guild?create a bookmark or bracelet to take home.\n\nFriday: Finish your projects and get ready to showcase your work. Families are invited to an afternoon open house to see demonstrations of spinning\, weaving\, and felting.\n\nBy the end of the week\, campers will have hands-on experience in spinning\, dyeing\, and weaving?turning raw wool into one-of-a-kind fiber art treasures!\n\nCost: $300\n\nStudents will need to bring a sack lunch and drink every day. \n\nWool to Weaving: Fiber Art Camp is sponsored by Hopewell Weaving
LOCATION:Peoria Art Guild Downtown Location 203 Harrison St Peoria\, IL\, IL 61602
UID:e.1773.22539
SEQUENCE:3
DTSTAMP:20260421T192645Z
URL:https://business.peoriachamber.org/events/details/wool-to-weaving-fiber-art-camp-for-kids-22539
END:VEVENT

END:VCALENDAR
