BEGIN:VCALENDAR
VERSION:2.0
PRODID:-//ChamberMaster//Event Calendar 2.0//EN
METHOD:PUBLISH
X-PUBLISHED-TTL:P3D
REFRESH-INTERVAL:P3D
CALSCALE:GREGORIAN
BEGIN:VEVENT
DTSTART:20250626T203000Z
DTEND:20250626T220000Z
X-MICROSOFT-CDO-ALLDAYEVENT:FALSE
SUMMARY:Your Brand. Your Voice. Your AI. A Two-Part Branding & AI Workshop Series for Small Business Owners (1st Part)
DESCRIPTION:A strong brand identity is the foundation of successful marketing ? and now\, AI can help you express and scale that brand more efficiently than ever. This two-part interactive workshop series will guide attendees through building a clear brand identity and then show them how to train AI to use that identity to generate aligned\, on-brand social media content and strategies.\nPart 1: Build Your Brand Identity\n?? Define Your Brand: A Step-by-Step Identity Guide\n?	Clarify your brand?s mission\, voice\, tone\, and values\n\n?	Identify your target audience and brand personality\n\n?	Receive a downloadable brand workbook you can use across all platforms\nPresented by: Theresa Bloom\, Director of AI U & Social Media Adviser\, SBDC
X-ALT-DESC;FMTTYPE=text/html:A strong brand identity is the foundation of successful marketing ? and now\, AI can help you express and scale that brand more efficiently than ever. This two-part interactive workshop series will guide attendees through building a clear brand identity and then show them how to train AI to use that identity to generate aligned\, on-brand social media content and strategies.\nPart 1: Build Your Brand Identity\n?? Define Your Brand: A Step-by-Step Identity Guide\n?	Clarify your brand?s mission\, voice\, tone\, and values\n\n?	Identify your target audience and brand personality\n\n?	Receive a downloadable brand workbook you can use across all platforms\nPresented by: Theresa Bloom\, Director of AI U &amp\; Social Media Adviser\, SBDC
LOCATION:Business and Engineering Convergence Center (BECC)\, Bradley University\, Room 1122 1500 W Main St\, Peoria\, IL
UID:e.1773.22511
SEQUENCE:3
DTSTAMP:20260421T204120Z
URL:https://business.peoriachamber.org/events/details/your-brand-your-voice-your-ai-a-two-part-branding-ai-workshop-series-for-small-business-owners-1st-part-22511
END:VEVENT

END:VCALENDAR
