BEGIN:VCALENDAR
VERSION:2.0
PRODID:-//ChamberMaster//Event Calendar 2.0//EN
METHOD:PUBLISH
X-PUBLISHED-TTL:P3D
REFRESH-INTERVAL:P3D
CALSCALE:GREGORIAN
BEGIN:VEVENT
DTSTART:20250702T203000Z
DTEND:20250702T220000Z
X-MICROSOFT-CDO-ALLDAYEVENT:FALSE
SUMMARY:Your Brand. Your Voice. Your AI. A Two-Part Branding & AI Workshop Series for Small Business Owners (2nd Part)
DESCRIPTION:A strong brand identity is the foundation of successful marketing ? and now\, AI can help you express and scale that brand more efficiently than ever. This two-part interactive workshop series will guide attendees through building a clear brand identity and then show them how to train AI to use that identity to generate aligned\, on-brand social media content and strategies.\nPart 2: Teach AI to Speak Your Brand    \n?? Brand + Bot: Using AI to Create On-Brand Content\n?	Learn the proven AI prompt structure to reflect your brand\n\n?	Create reusable "brand-trained" instructions for ChatGPT\n\n?	Use AI to generate captions\, content pillars\, and a consistent posting strategy\nAttendees will leave with a complete brand identity guide\, a set of reusable AI prompts tailored to their business\, and a roadmap for saving time while showing up consistently and authentically online.\nPerfect for entrepreneurs\, startups\, and small business owners who want to stay visible\, save time\, and grow with confidence.\nPresented by: Theresa Bloom\, Director of AI U & Social Media Adviser\, SBDC
X-ALT-DESC;FMTTYPE=text/html:A strong brand identity is the foundation of successful marketing ? and now\, AI can help you express and scale that brand more efficiently than ever. This two-part interactive workshop series will guide attendees through building a clear brand identity and then show them how to train AI to use that identity to generate aligned\, on-brand social media content and strategies.\nPart 2: Teach AI to Speak Your Brand    \n?? Brand + Bot: Using AI to Create On-Brand Content\n?	Learn the proven AI prompt structure to reflect your brand\n\n?	Create reusable "brand-trained" instructions for ChatGPT\n\n?	Use AI to generate captions\, content pillars\, and a consistent posting strategy\nAttendees will leave with a complete brand identity guide\, a set of reusable AI prompts tailored to their business\, and a roadmap for saving time while showing up consistently and authentically online.\nPerfect for entrepreneurs\, startups\, and small business owners who want to stay visible\, save time\, and grow with confidence.\nPresented by: Theresa Bloom\, Director of AI U &amp\; Social Media Adviser\, SBDC
LOCATION:Business and Engineering Convergence Center (BECC)\, Bradley University\, Room 1122 1500 W Main St\, Peoria\, IL
UID:e.1773.22512
SEQUENCE:3
DTSTAMP:20260421T192820Z
URL:https://business.peoriachamber.org/events/details/your-brand-your-voice-your-ai-a-two-part-branding-ai-workshop-series-for-small-business-owners-2nd-part-22512
END:VEVENT

END:VCALENDAR
