BEGIN:VCALENDAR
VERSION:2.0
PRODID:-//ChamberMaster//Event Calendar 2.0//EN
METHOD:PUBLISH
X-PUBLISHED-TTL:P3D
REFRESH-INTERVAL:P3D
CALSCALE:GREGORIAN
BEGIN:VEVENT
DTSTART:20241107T230000Z
DTEND:20241108T010000Z
X-MICROSOFT-CDO-ALLDAYEVENT:FALSE
SUMMARY:YPGP Monthly Social- Jonah's Seafood House
DESCRIPTION:Join us for the November YPGP Social at Jonah's Seafood House on Thursday\, November 7th\, 2024! The social is from 5:00 p.m.-7:00 p.m.
X-ALT-DESC;FMTTYPE=text/html:Join us for the November YPGP Social at Jonah&#39\;s Seafood House<span style="color:#1F497D\;"><span style="font-family:calibri\,sans-serif\;"><span style="font-size:11.0pt\;">&nbsp\;</span></span></span>on Thursday\, November 7th\, 2024! The social is from 5:00 p.m.-7:00 p.m.
LOCATION:Jonah's Seafood House 2601 N Main St. East Peoria\, IL 61611
UID:e.1773.22038
SEQUENCE:3
DTSTAMP:20260425T164534Z
URL:https://business.peoriachamber.org/events/details/ypgp-monthly-social-jonah-s-seafood-house-22038
END:VEVENT

END:VCALENDAR
